BEGIN:VCALENDAR
VERSION:2.0
PRODID:-//Lessing-Grundschule in Pirna - ECPv6.15.20//NONSGML v1.0//EN
CALSCALE:GREGORIAN
METHOD:PUBLISH
X-ORIGINAL-URL:https://gslessing-pirna.de
X-WR-CALDESC:Veranstaltungen für Lessing-Grundschule in Pirna
REFRESH-INTERVAL;VALUE=DURATION:PT1H
X-Robots-Tag:noindex
X-PUBLISHED-TTL:PT1H
BEGIN:VTIMEZONE
TZID:Europe/Berlin
BEGIN:DAYLIGHT
TZOFFSETFROM:+0100
TZOFFSETTO:+0200
TZNAME:CEST
DTSTART:20240331T010000
END:DAYLIGHT
BEGIN:STANDARD
TZOFFSETFROM:+0200
TZOFFSETTO:+0100
TZNAME:CET
DTSTART:20241027T010000
END:STANDARD
BEGIN:DAYLIGHT
TZOFFSETFROM:+0100
TZOFFSETTO:+0200
TZNAME:CEST
DTSTART:20250330T010000
END:DAYLIGHT
BEGIN:STANDARD
TZOFFSETFROM:+0200
TZOFFSETTO:+0100
TZNAME:CET
DTSTART:20251026T010000
END:STANDARD
BEGIN:DAYLIGHT
TZOFFSETFROM:+0100
TZOFFSETTO:+0200
TZNAME:CEST
DTSTART:20260329T010000
END:DAYLIGHT
BEGIN:STANDARD
TZOFFSETFROM:+0200
TZOFFSETTO:+0100
TZNAME:CET
DTSTART:20261025T010000
END:STANDARD
END:VTIMEZONE
BEGIN:VEVENT
DTSTART;TZID=Europe/Berlin:20250825T180000
DTEND;TZID=Europe/Berlin:20250825T193000
DTSTAMP:20260420T131914
CREATED:20250813T071321Z
LAST-MODIFIED:20250813T071321Z
UID:10000082-1756144800-1756150200@gslessing-pirna.de
SUMMARY:Elternabend Klassenstufe 4
DESCRIPTION:Wer?\nKlassen 4 a|b \nTreffpunkt:\nKlassenzimmer \nWann?\n18 Uhr
URL:https://gslessing-pirna.de/event/elternabend-klassenstufe-2-2-2/
END:VEVENT
BEGIN:VEVENT
DTSTART;TZID=Europe/Berlin:20250826T170000
DTEND;TZID=Europe/Berlin:20250826T183000
DTSTAMP:20260420T131914
CREATED:20250813T070755Z
LAST-MODIFIED:20250813T072313Z
UID:10000080-1756227600-1756233000@gslessing-pirna.de
SUMMARY:Elternabend Klassenstufe 2
DESCRIPTION:Wer?\nKlassen 2 a|b|c \nTreffpunkt:\nAula \nWann?\n17 Uhr
URL:https://gslessing-pirna.de/event/elternabend-klassenstufe-2/
END:VEVENT
BEGIN:VEVENT
DTSTART;TZID=Europe/Berlin:20250826T183000
DTEND;TZID=Europe/Berlin:20250826T193000
DTSTAMP:20260420T131914
CREATED:20250813T085101Z
LAST-MODIFIED:20250813T085213Z
UID:10000085-1756233000-1756236600@gslessing-pirna.de
SUMMARY:Elternabend Klasse 3a
DESCRIPTION:Wer?\nKlasse 3a \nTreffpunkt:\nKlassenzimmer \nWann?\n18:30 Uhr
URL:https://gslessing-pirna.de/event/elternabend-klassenstufe-2-2-3/
END:VEVENT
BEGIN:VEVENT
DTSTART;TZID=Europe/Berlin:20250827T170000
DTEND;TZID=Europe/Berlin:20250827T183000
DTSTAMP:20260420T131914
CREATED:20250813T070558Z
LAST-MODIFIED:20250813T070558Z
UID:10000079-1756314000-1756319400@gslessing-pirna.de
SUMMARY:Elternabend Klassenstufe 1
DESCRIPTION:Wer?\nKlassen 1 a|b|c \nTreffpunkt:\nAula \nWann?\n17 Uhr
URL:https://gslessing-pirna.de/event/elternabend-klassenstufe-1/
END:VEVENT
END:VCALENDAR