BEGIN:VCALENDAR
VERSION:2.0
PRODID:-//Lessing-Grundschule in Pirna - ECPv6.15.20//NONSGML v1.0//EN
CALSCALE:GREGORIAN
METHOD:PUBLISH
X-ORIGINAL-URL:https://gslessing-pirna.de
X-WR-CALDESC:Veranstaltungen für Lessing-Grundschule in Pirna
REFRESH-INTERVAL;VALUE=DURATION:PT1H
X-Robots-Tag:noindex
X-PUBLISHED-TTL:PT1H
BEGIN:VTIMEZONE
TZID:Europe/Berlin
BEGIN:DAYLIGHT
TZOFFSETFROM:+0100
TZOFFSETTO:+0200
TZNAME:CEST
DTSTART:20230326T010000
END:DAYLIGHT
BEGIN:STANDARD
TZOFFSETFROM:+0200
TZOFFSETTO:+0100
TZNAME:CET
DTSTART:20231029T010000
END:STANDARD
BEGIN:DAYLIGHT
TZOFFSETFROM:+0100
TZOFFSETTO:+0200
TZNAME:CEST
DTSTART:20240331T010000
END:DAYLIGHT
BEGIN:STANDARD
TZOFFSETFROM:+0200
TZOFFSETTO:+0100
TZNAME:CET
DTSTART:20241027T010000
END:STANDARD
BEGIN:DAYLIGHT
TZOFFSETFROM:+0100
TZOFFSETTO:+0200
TZNAME:CEST
DTSTART:20250330T010000
END:DAYLIGHT
BEGIN:STANDARD
TZOFFSETFROM:+0200
TZOFFSETTO:+0100
TZNAME:CET
DTSTART:20251026T010000
END:STANDARD
END:VTIMEZONE
BEGIN:VEVENT
DTSTART;TZID=Europe/Berlin:20240207T170000
DTEND;TZID=Europe/Berlin:20240207T180000
DTSTAMP:20260423T162908
CREATED:20240130T113816Z
LAST-MODIFIED:20240130T113827Z
UID:10000050-1707325200-1707328800@gslessing-pirna.de
SUMMARY:Sitzung Förderverein 17 Uhr
DESCRIPTION:
URL:https://gslessing-pirna.de/event/sitzung-foerderverein-17-uhr/
END:VEVENT
BEGIN:VEVENT
DTSTART;VALUE=DATE:20240209
DTEND;VALUE=DATE:20240210
DTSTAMP:20260423T162908
CREATED:20230706T062246Z
LAST-MODIFIED:20230706T062246Z
UID:10000022-1707436800-1707523199@gslessing-pirna.de
SUMMARY:Halbjahresinformation\, Bildungsempfehlung Klassenstufe 4
DESCRIPTION:
URL:https://gslessing-pirna.de/event/halbjahresinformation-bildungsempfehlung-klassenstufe-4/
END:VEVENT
END:VCALENDAR