BEGIN:VCALENDAR
VERSION:2.0
PRODID:-//Lessing-Grundschule in Pirna - ECPv6.15.20//NONSGML v1.0//EN
CALSCALE:GREGORIAN
METHOD:PUBLISH
X-WR-CALNAME:Lessing-Grundschule in Pirna
X-ORIGINAL-URL:https://gslessing-pirna.de
X-WR-CALDESC:Veranstaltungen für Lessing-Grundschule in Pirna
REFRESH-INTERVAL;VALUE=DURATION:PT1H
X-Robots-Tag:noindex
X-PUBLISHED-TTL:PT1H
BEGIN:VTIMEZONE
TZID:Europe/Berlin
BEGIN:DAYLIGHT
TZOFFSETFROM:+0100
TZOFFSETTO:+0200
TZNAME:CEST
DTSTART:20220327T010000
END:DAYLIGHT
BEGIN:STANDARD
TZOFFSETFROM:+0200
TZOFFSETTO:+0100
TZNAME:CET
DTSTART:20221030T010000
END:STANDARD
BEGIN:DAYLIGHT
TZOFFSETFROM:+0100
TZOFFSETTO:+0200
TZNAME:CEST
DTSTART:20230326T010000
END:DAYLIGHT
BEGIN:STANDARD
TZOFFSETFROM:+0200
TZOFFSETTO:+0100
TZNAME:CET
DTSTART:20231029T010000
END:STANDARD
BEGIN:DAYLIGHT
TZOFFSETFROM:+0100
TZOFFSETTO:+0200
TZNAME:CEST
DTSTART:20240331T010000
END:DAYLIGHT
BEGIN:STANDARD
TZOFFSETFROM:+0200
TZOFFSETTO:+0100
TZNAME:CET
DTSTART:20241027T010000
END:STANDARD
END:VTIMEZONE
BEGIN:VEVENT
DTSTART;VALUE=DATE:20231129
DTEND;VALUE=DATE:20231130
DTSTAMP:20260424T052355
CREATED:20230706T062157Z
LAST-MODIFIED:20230706T062157Z
UID:10000019-1701216000-1701302399@gslessing-pirna.de
SUMMARY:Adacus Verkehrserziehung
DESCRIPTION:
URL:https://gslessing-pirna.de/event/adacus-verkehrserziehung/
END:VEVENT
BEGIN:VEVENT
DTSTART;TZID=Europe/Berlin:20231129T150000
DTEND;TZID=Europe/Berlin:20231129T170000
DTSTAMP:20260424T052355
CREATED:20231108T093245Z
LAST-MODIFIED:20231108T093245Z
UID:10000048-1701270000-1701277200@gslessing-pirna.de
SUMMARY:Weihnachtsbasteln 15-17 Uhr
DESCRIPTION:
URL:https://gslessing-pirna.de/event/weihnachtsbasteln-15-17-uhr/
END:VEVENT
END:VCALENDAR