BEGIN:VCALENDAR
VERSION:2.0
PRODID:-//Lessing-Grundschule in Pirna - ECPv6.15.20//NONSGML v1.0//EN
CALSCALE:GREGORIAN
METHOD:PUBLISH
X-ORIGINAL-URL:https://gslessing-pirna.de
X-WR-CALDESC:Veranstaltungen für Lessing-Grundschule in Pirna
REFRESH-INTERVAL;VALUE=DURATION:PT1H
X-Robots-Tag:noindex
X-PUBLISHED-TTL:PT1H
BEGIN:VTIMEZONE
TZID:Europe/Berlin
BEGIN:DAYLIGHT
TZOFFSETFROM:+0100
TZOFFSETTO:+0200
TZNAME:CEST
DTSTART:20220327T010000
END:DAYLIGHT
BEGIN:STANDARD
TZOFFSETFROM:+0200
TZOFFSETTO:+0100
TZNAME:CET
DTSTART:20221030T010000
END:STANDARD
BEGIN:DAYLIGHT
TZOFFSETFROM:+0100
TZOFFSETTO:+0200
TZNAME:CEST
DTSTART:20230326T010000
END:DAYLIGHT
BEGIN:STANDARD
TZOFFSETFROM:+0200
TZOFFSETTO:+0100
TZNAME:CET
DTSTART:20231029T010000
END:STANDARD
BEGIN:DAYLIGHT
TZOFFSETFROM:+0100
TZOFFSETTO:+0200
TZNAME:CEST
DTSTART:20240331T010000
END:DAYLIGHT
BEGIN:STANDARD
TZOFFSETFROM:+0200
TZOFFSETTO:+0100
TZNAME:CET
DTSTART:20241027T010000
END:STANDARD
END:VTIMEZONE
BEGIN:VEVENT
DTSTART;TZID=Europe/Berlin:20231017T180000
DTEND;TZID=Europe/Berlin:20231017T190000
DTSTAMP:20260424T140454
CREATED:20230919T065127Z
LAST-MODIFIED:20230919T065127Z
UID:10000046-1697565600-1697569200@gslessing-pirna.de
SUMMARY:Informationsabend Schulvorbereitung | Einschulungsjahr 2024/2025
DESCRIPTION:Informationsabend in der Aula der GS Lessing in Pirna in Hinblick auf das Schulvorbereitungsjahr. Die Schulleiterin wird allen interessierten Eltern organisatorische Hinweise und wertvolle Tipps für die Übergangsphase von der Kita bis zur Schuleinführung geben. Sie erhalten erste Einblicke in die Inhalte und Profilierung unserer Grundschule sowie Informationen zur Entscheidungsfindung der Wahlfächer Ethik und evangelischen oder katholischen Religionsunterricht.
URL:https://gslessing-pirna.de/event/informationsabend-schulvorbereitung-einschulungsjahr-2024-2025/
LOCATION:GS Lessing\, Königsteiner Straße 22 a\, Pirna\, Sachsen\, 01796\, Deutschland
END:VEVENT
BEGIN:VEVENT
DTSTART;VALUE=DATE:20231019
DTEND;VALUE=DATE:20231020
DTSTAMP:20260424T140454
CREATED:20230706T062111Z
LAST-MODIFIED:20230706T062111Z
UID:10000015-1697673600-1697759999@gslessing-pirna.de
SUMMARY:Schülerkonzert Klassenstufe 4
DESCRIPTION:
URL:https://gslessing-pirna.de/event/schuelerkonzert-klassenstufe-4/
END:VEVENT
END:VCALENDAR