BEGIN:VCALENDAR
VERSION:2.0
PRODID:-//Lessing-Grundschule in Pirna - ECPv6.15.20//NONSGML v1.0//EN
CALSCALE:GREGORIAN
METHOD:PUBLISH
X-WR-CALNAME:Lessing-Grundschule in Pirna
X-ORIGINAL-URL:https://gslessing-pirna.de
X-WR-CALDESC:Veranstaltungen für Lessing-Grundschule in Pirna
REFRESH-INTERVAL;VALUE=DURATION:PT1H
X-Robots-Tag:noindex
X-PUBLISHED-TTL:PT1H
BEGIN:VTIMEZONE
TZID:Europe/Berlin
BEGIN:DAYLIGHT
TZOFFSETFROM:+0100
TZOFFSETTO:+0200
TZNAME:CEST
DTSTART:20220327T010000
END:DAYLIGHT
BEGIN:STANDARD
TZOFFSETFROM:+0200
TZOFFSETTO:+0100
TZNAME:CET
DTSTART:20221030T010000
END:STANDARD
BEGIN:DAYLIGHT
TZOFFSETFROM:+0100
TZOFFSETTO:+0200
TZNAME:CEST
DTSTART:20230326T010000
END:DAYLIGHT
BEGIN:STANDARD
TZOFFSETFROM:+0200
TZOFFSETTO:+0100
TZNAME:CET
DTSTART:20231029T010000
END:STANDARD
BEGIN:DAYLIGHT
TZOFFSETFROM:+0100
TZOFFSETTO:+0200
TZNAME:CEST
DTSTART:20240331T010000
END:DAYLIGHT
BEGIN:STANDARD
TZOFFSETFROM:+0200
TZOFFSETTO:+0100
TZNAME:CET
DTSTART:20241027T010000
END:STANDARD
END:VTIMEZONE
BEGIN:VEVENT
DTSTART;TZID=Europe/Berlin:20230925T150000
DTEND;TZID=Europe/Berlin:20230925T154500
DTSTAMP:20260424T183028
CREATED:20230919T063118Z
LAST-MODIFIED:20230919T063118Z
UID:10000044-1695654000-1695656700@gslessing-pirna.de
SUMMARY:Kennenlernen Schulvorbereitung
DESCRIPTION:Kennenlernen für unsere Schulanfänger – Dauer 45 min. \nFür Eltern gibt es die Möglichkeit eines Schulrundganges mit unserer Schulleiterin.
URL:https://gslessing-pirna.de/event/kennenlernen-schulvorbereitung-3/
LOCATION:GS Lessing\, Königsteiner Straße 22 a\, Pirna\, Sachsen\, 01796\, Deutschland
END:VEVENT
BEGIN:VEVENT
DTSTART;TZID=Europe/Berlin:20230925T160000
DTEND;TZID=Europe/Berlin:20230925T164500
DTSTAMP:20260424T183028
CREATED:20230706T061915Z
LAST-MODIFIED:20230919T063653Z
UID:10000011-1695657600-1695660300@gslessing-pirna.de
SUMMARY:Kennenlernen Schulvorbereitung
DESCRIPTION:Kennenlernen für unsere Schulanfänger – Dauer 45 min. \nFür Eltern gibt es die Möglichkeit eines Schulrundganges mit unserer Schulleiterin.
URL:https://gslessing-pirna.de/event/kennenlernen-schulvorbereitung/
LOCATION:GS Lessing\, Königsteiner Straße 22 a\, Pirna\, Sachsen\, 01796\, Deutschland
END:VEVENT
BEGIN:VEVENT
DTSTART;TZID=Europe/Berlin:20230927T150000
DTEND;TZID=Europe/Berlin:20230927T154500
DTSTAMP:20260424T183028
CREATED:20230706T061926Z
LAST-MODIFIED:20230919T062225Z
UID:10000012-1695826800-1695829500@gslessing-pirna.de
SUMMARY:Kennenlernen Schulvorbereitung
DESCRIPTION:
URL:https://gslessing-pirna.de/event/kennenlernen-schulvorbereitung-2/
LOCATION:GS Lessing\, Königsteiner Straße 22 a\, Pirna\, Sachsen\, 01796\, Deutschland
END:VEVENT
BEGIN:VEVENT
DTSTART;TZID=Europe/Berlin:20230927T160000
DTEND;TZID=Europe/Berlin:20230927T164500
DTSTAMP:20260424T183028
CREATED:20230919T063317Z
LAST-MODIFIED:20230919T063437Z
UID:10000045-1695830400-1695833100@gslessing-pirna.de
SUMMARY:Kennenlernen Schulvorbereitung
DESCRIPTION:Kennenlernen für unsere Schulanfänger – Dauer 45 min. \nFür die Eltern gibt es die Möglichkeit eines Schulrundganges mit der Schulleiterin.
URL:https://gslessing-pirna.de/event/kennenlernen-schulvorbereitung-4/
LOCATION:GS Lessing\, Königsteiner Straße 22 a\, Pirna\, Sachsen\, 01796\, Deutschland
END:VEVENT
END:VCALENDAR