BEGIN:VCALENDAR
VERSION:2.0
PRODID:-//Lessing-Grundschule in Pirna - ECPv6.15.20//NONSGML v1.0//EN
CALSCALE:GREGORIAN
METHOD:PUBLISH
X-ORIGINAL-URL:https://gslessing-pirna.de
X-WR-CALDESC:Veranstaltungen für Lessing-Grundschule in Pirna
REFRESH-INTERVAL;VALUE=DURATION:PT1H
X-Robots-Tag:noindex
X-PUBLISHED-TTL:PT1H
BEGIN:VTIMEZONE
TZID:Europe/Berlin
BEGIN:DAYLIGHT
TZOFFSETFROM:+0100
TZOFFSETTO:+0200
TZNAME:CEST
DTSTART:20220327T010000
END:DAYLIGHT
BEGIN:STANDARD
TZOFFSETFROM:+0200
TZOFFSETTO:+0100
TZNAME:CET
DTSTART:20221030T010000
END:STANDARD
BEGIN:DAYLIGHT
TZOFFSETFROM:+0100
TZOFFSETTO:+0200
TZNAME:CEST
DTSTART:20230326T010000
END:DAYLIGHT
BEGIN:STANDARD
TZOFFSETFROM:+0200
TZOFFSETTO:+0100
TZNAME:CET
DTSTART:20231029T010000
END:STANDARD
BEGIN:DAYLIGHT
TZOFFSETFROM:+0100
TZOFFSETTO:+0200
TZNAME:CEST
DTSTART:20240331T010000
END:DAYLIGHT
BEGIN:STANDARD
TZOFFSETFROM:+0200
TZOFFSETTO:+0100
TZNAME:CET
DTSTART:20241027T010000
END:STANDARD
END:VTIMEZONE
BEGIN:VEVENT
DTSTART;VALUE=DATE:20230904
DTEND;VALUE=DATE:20230905
DTSTAMP:20260424T224030
CREATED:20230706T061629Z
LAST-MODIFIED:20230706T061629Z
UID:10000006-1693785600-1693871999@gslessing-pirna.de
SUMMARY:Altpapieraktion
DESCRIPTION:
URL:https://gslessing-pirna.de/event/altpapieraktion/
END:VEVENT
BEGIN:VEVENT
DTSTART;TZID=Europe/Berlin:20230904T173000
DTEND;TZID=Europe/Berlin:20230904T190000
DTSTAMP:20260424T224030
CREATED:20230825T082643Z
LAST-MODIFIED:20230825T082905Z
UID:10000042-1693848600-1693854000@gslessing-pirna.de
SUMMARY:Elternabend 4a/b
DESCRIPTION:Kl. 4a = Zi 3.13 \nKl. 4b = Zi 3.16
URL:https://gslessing-pirna.de/event/elternabend-4a-b/
END:VEVENT
BEGIN:VEVENT
DTSTART;TZID=Europe/Berlin:20230904T180000
DTEND;TZID=Europe/Berlin:20230904T193000
DTSTAMP:20260424T224030
CREATED:20230825T082455Z
LAST-MODIFIED:20230825T082455Z
UID:10000041-1693850400-1693855800@gslessing-pirna.de
SUMMARY:Elternabend 3a/b
DESCRIPTION:Kl. 3a = Zi 4.3 \nKl. 3b = Zi 4.4
URL:https://gslessing-pirna.de/event/elternabend-3a-b/
END:VEVENT
BEGIN:VEVENT
DTSTART;TZID=Europe/Berlin:20230905T080000
DTEND;TZID=Europe/Berlin:20230905T170000
DTSTAMP:20260424T224030
CREATED:20230706T061657Z
LAST-MODIFIED:20230706T061743Z
UID:10000007-1693900800-1693933200@gslessing-pirna.de
SUMMARY:Schulanmeldung
DESCRIPTION:
URL:https://gslessing-pirna.de/event/08-00-17-00-uhr-schulanmeldung/
END:VEVENT
BEGIN:VEVENT
DTSTART;TZID=Europe/Berlin:20230905T170000
DTEND;TZID=Europe/Berlin:20230905T183000
DTSTAMP:20260424T224030
CREATED:20230825T083032Z
LAST-MODIFIED:20230825T083032Z
UID:10000043-1693933200-1693938600@gslessing-pirna.de
SUMMARY:Elternabend Ukraine-Schüler
DESCRIPTION:Kl. VKU = Zi 4.6
URL:https://gslessing-pirna.de/event/elternabend-ukraine-schueler/
END:VEVENT
BEGIN:VEVENT
DTSTART;TZID=Europe/Berlin:20230906T080000
DTEND;TZID=Europe/Berlin:20230906T150000
DTSTAMP:20260424T224030
CREATED:20230706T061717Z
LAST-MODIFIED:20230706T061735Z
UID:10000008-1693987200-1694012400@gslessing-pirna.de
SUMMARY:Schulanmeldung
DESCRIPTION:
URL:https://gslessing-pirna.de/event/08-00-15-00-uhr-schulanmeldung/
END:VEVENT
BEGIN:VEVENT
DTSTART;TZID=Europe/Berlin:20230906T180000
DTEND;TZID=Europe/Berlin:20230906T193000
DTSTAMP:20260424T224030
CREATED:20230825T082059Z
LAST-MODIFIED:20230825T082059Z
UID:10000040-1694023200-1694028600@gslessing-pirna.de
SUMMARY:Elternabend Kl. 2a/b
DESCRIPTION:Kl. 2a = Zi 4.14 \nKl. 2b = Zi 4.10
URL:https://gslessing-pirna.de/event/elternabend-kl-2a-b/
END:VEVENT
BEGIN:VEVENT
DTSTART;TZID=Europe/Berlin:20230907T080000
DTEND;TZID=Europe/Berlin:20230907T160000
DTSTAMP:20260424T224030
CREATED:20230706T061801Z
LAST-MODIFIED:20230706T061801Z
UID:10000009-1694073600-1694102400@gslessing-pirna.de
SUMMARY:Schulanmeldung
DESCRIPTION:
URL:https://gslessing-pirna.de/event/schulanmeldung/
END:VEVENT
BEGIN:VEVENT
DTSTART;TZID=Europe/Berlin:20230907T170000
DTEND;TZID=Europe/Berlin:20230907T183000
DTSTAMP:20260424T224030
CREATED:20230825T081638Z
LAST-MODIFIED:20230825T082241Z
UID:10000039-1694106000-1694111400@gslessing-pirna.de
SUMMARY:Elternabend Kl. 1a/b/c
DESCRIPTION:Kl. 1a = Zi 3.10 \nKl. 1b = Zi 4.7 \nKl. 1c = Zi 3.7
URL:https://gslessing-pirna.de/event/elternabend-kl-1a-b-c/
END:VEVENT
END:VCALENDAR