BEGIN:VCALENDAR
VERSION:2.0
PRODID:-//Lessing-Grundschule in Pirna - ECPv6.15.20//NONSGML v1.0//EN
CALSCALE:GREGORIAN
METHOD:PUBLISH
X-ORIGINAL-URL:https://gslessing-pirna.de
X-WR-CALDESC:Veranstaltungen für Lessing-Grundschule in Pirna
REFRESH-INTERVAL;VALUE=DURATION:PT1H
X-Robots-Tag:noindex
X-PUBLISHED-TTL:PT1H
BEGIN:VTIMEZONE
TZID:Europe/Berlin
BEGIN:DAYLIGHT
TZOFFSETFROM:+0100
TZOFFSETTO:+0200
TZNAME:CEST
DTSTART:20220327T010000
END:DAYLIGHT
BEGIN:STANDARD
TZOFFSETFROM:+0200
TZOFFSETTO:+0100
TZNAME:CET
DTSTART:20221030T010000
END:STANDARD
BEGIN:DAYLIGHT
TZOFFSETFROM:+0100
TZOFFSETTO:+0200
TZNAME:CEST
DTSTART:20230326T010000
END:DAYLIGHT
BEGIN:STANDARD
TZOFFSETFROM:+0200
TZOFFSETTO:+0100
TZNAME:CET
DTSTART:20231029T010000
END:STANDARD
BEGIN:DAYLIGHT
TZOFFSETFROM:+0100
TZOFFSETTO:+0200
TZNAME:CEST
DTSTART:20240331T010000
END:DAYLIGHT
BEGIN:STANDARD
TZOFFSETFROM:+0200
TZOFFSETTO:+0100
TZNAME:CET
DTSTART:20241027T010000
END:STANDARD
END:VTIMEZONE
BEGIN:VEVENT
DTSTART;TZID=Europe/Berlin:20230818T170000
DTEND;TZID=Europe/Berlin:20230818T180000
DTSTAMP:20260425T031616
CREATED:20230705T132329Z
LAST-MODIFIED:20230705T132329Z
UID:10000002-1692378000-1692381600@gslessing-pirna.de
SUMMARY:Abgabe Zuckertüten + Materialgeld
DESCRIPTION:
URL:https://gslessing-pirna.de/event/abgabe-zuckertueten-materialgeld/
END:VEVENT
BEGIN:VEVENT
DTSTART;VALUE=DATE:20230819
DTEND;VALUE=DATE:20230820
DTSTAMP:20260425T031616
CREATED:20230705T132402Z
LAST-MODIFIED:20230705T132402Z
UID:10000003-1692403200-1692489599@gslessing-pirna.de
SUMMARY:Schuleinführung Aula Kl. 1a - 09.00 Uhr Kl. 1b - 10.00 Uhr Kl. 1c - 11.00 Uhr
DESCRIPTION:
URL:https://gslessing-pirna.de/event/schuleinfuehrung-aula-kl-1a-09-00-uhr-kl-1b-10-00-uhr-kl-1c-11-00-uhr/
END:VEVENT
END:VCALENDAR