BEGIN:VCALENDAR
VERSION:2.0
PRODID:-//Lessing-Grundschule in Pirna - ECPv6.15.20//NONSGML v1.0//EN
CALSCALE:GREGORIAN
METHOD:PUBLISH
X-WR-CALNAME:Lessing-Grundschule in Pirna
X-ORIGINAL-URL:https://gslessing-pirna.de
X-WR-CALDESC:Veranstaltungen für Lessing-Grundschule in Pirna
REFRESH-INTERVAL;VALUE=DURATION:PT1H
X-Robots-Tag:noindex
X-PUBLISHED-TTL:PT1H
BEGIN:VTIMEZONE
TZID:Europe/Berlin
BEGIN:DAYLIGHT
TZOFFSETFROM:+0100
TZOFFSETTO:+0200
TZNAME:CEST
DTSTART:20240331T010000
END:DAYLIGHT
BEGIN:STANDARD
TZOFFSETFROM:+0200
TZOFFSETTO:+0100
TZNAME:CET
DTSTART:20241027T010000
END:STANDARD
BEGIN:DAYLIGHT
TZOFFSETFROM:+0100
TZOFFSETTO:+0200
TZNAME:CEST
DTSTART:20250330T010000
END:DAYLIGHT
BEGIN:STANDARD
TZOFFSETFROM:+0200
TZOFFSETTO:+0100
TZNAME:CET
DTSTART:20251026T010000
END:STANDARD
BEGIN:DAYLIGHT
TZOFFSETFROM:+0100
TZOFFSETTO:+0200
TZNAME:CEST
DTSTART:20260329T010000
END:DAYLIGHT
BEGIN:STANDARD
TZOFFSETFROM:+0200
TZOFFSETTO:+0100
TZNAME:CET
DTSTART:20261025T010000
END:STANDARD
END:VTIMEZONE
BEGIN:VEVENT
DTSTART;TZID=Europe/Berlin:20250808T170000
DTEND;TZID=Europe/Berlin:20250808T180000
DTSTAMP:20260420T101638
CREATED:20250402T080055Z
LAST-MODIFIED:20250402T080059Z
UID:10000076-1754672400-1754676000@gslessing-pirna.de
SUMMARY:Zuckertütenannahme 17-18 Uhr
DESCRIPTION:Annahmeort: Klassenzimmer 1a\, 1b\, 1c
URL:https://gslessing-pirna.de/event/zuckertuetenannahme-17-18-uhr/
END:VEVENT
BEGIN:VEVENT
DTSTART;TZID=Europe/Berlin:20250809T090000
DTEND;TZID=Europe/Berlin:20250809T120000
DTSTAMP:20260420T101638
CREATED:20250402T080339Z
LAST-MODIFIED:20250626T062907Z
UID:10000077-1754730000-1754740800@gslessing-pirna.de
SUMMARY:Schuleinführung
DESCRIPTION:Vormittags in der Aula zu 3 Durchführungen laut Informationen aus dem 0. Elternabend am 03.06.2025. \n1a = 09:00 Uhr \n1b = 10:00 Uhr \n1c = 11:00 Uhr
URL:https://gslessing-pirna.de/event/schuleinfuehrung/
END:VEVENT
BEGIN:VEVENT
DTSTART;VALUE=DATE:20250819
DTEND;VALUE=DATE:20250820
DTSTAMP:20260420T101638
CREATED:20240429T065810Z
LAST-MODIFIED:20250513T084005Z
UID:10000059-1755561600-1755647999@gslessing-pirna.de
SUMMARY:Fotograf Klassen 1 a|b|c
DESCRIPTION:Die leere Schultüte darf mitgebracht werden.
URL:https://gslessing-pirna.de/event/fotograf-klassen-1-abc/
END:VEVENT
BEGIN:VEVENT
DTSTART;TZID=Europe/Berlin:20250821T170000
DTEND;TZID=Europe/Berlin:20250821T183000
DTSTAMP:20260420T101638
CREATED:20250813T071148Z
LAST-MODIFIED:20250813T071148Z
UID:10000081-1755795600-1755801000@gslessing-pirna.de
SUMMARY:Elternabend Klassen 3 b+c
DESCRIPTION:Wer?\nKlassen 3 b|c \nTreffpunkt:\nKlassenzimmer \nWann?\n17 Uhr
URL:https://gslessing-pirna.de/event/elternabend-klassenstufe-2-2/
END:VEVENT
BEGIN:VEVENT
DTSTART;TZID=Europe/Berlin:20250822T080000
DTEND;TZID=Europe/Berlin:20250822T130000
DTSTAMP:20260420T101638
CREATED:20250626T063651Z
LAST-MODIFIED:20250626T063914Z
UID:10000078-1755849600-1755867600@gslessing-pirna.de
SUMMARY:Skisporttag der Grundschulen Klassenstufe 2 - Sportanlage Grün Weiß Pirna-Sonnenstein
DESCRIPTION:Ort: Sportanlage Grün Weiß Pirna\, Struppener Str. 9\, 01796 Pirna \n 
URL:https://gslessing-pirna.de/event/skisporttag-der-grundschulen-klassenstufe-2-sportanlage-gruen-weiss-pirna-sonnenstein/
LOCATION:Sportanlage Grün Weiß Pirna\, Struppener Straße 9\, Pirna\, Sachsen\, 01796\, Deutschland
END:VEVENT
BEGIN:VEVENT
DTSTART;TZID=Europe/Berlin:20250825T180000
DTEND;TZID=Europe/Berlin:20250825T193000
DTSTAMP:20260420T101638
CREATED:20250813T071321Z
LAST-MODIFIED:20250813T071321Z
UID:10000082-1756144800-1756150200@gslessing-pirna.de
SUMMARY:Elternabend Klassenstufe 4
DESCRIPTION:Wer?\nKlassen 4 a|b \nTreffpunkt:\nKlassenzimmer \nWann?\n18 Uhr
URL:https://gslessing-pirna.de/event/elternabend-klassenstufe-2-2-2/
END:VEVENT
BEGIN:VEVENT
DTSTART;TZID=Europe/Berlin:20250826T170000
DTEND;TZID=Europe/Berlin:20250826T183000
DTSTAMP:20260420T101638
CREATED:20250813T070755Z
LAST-MODIFIED:20250813T072313Z
UID:10000080-1756227600-1756233000@gslessing-pirna.de
SUMMARY:Elternabend Klassenstufe 2
DESCRIPTION:Wer?\nKlassen 2 a|b|c \nTreffpunkt:\nAula \nWann?\n17 Uhr
URL:https://gslessing-pirna.de/event/elternabend-klassenstufe-2/
END:VEVENT
BEGIN:VEVENT
DTSTART;TZID=Europe/Berlin:20250826T183000
DTEND;TZID=Europe/Berlin:20250826T193000
DTSTAMP:20260420T101638
CREATED:20250813T085101Z
LAST-MODIFIED:20250813T085213Z
UID:10000085-1756233000-1756236600@gslessing-pirna.de
SUMMARY:Elternabend Klasse 3a
DESCRIPTION:Wer?\nKlasse 3a \nTreffpunkt:\nKlassenzimmer \nWann?\n18:30 Uhr
URL:https://gslessing-pirna.de/event/elternabend-klassenstufe-2-2-3/
END:VEVENT
BEGIN:VEVENT
DTSTART;TZID=Europe/Berlin:20250827T170000
DTEND;TZID=Europe/Berlin:20250827T183000
DTSTAMP:20260420T101638
CREATED:20250813T070558Z
LAST-MODIFIED:20250813T070558Z
UID:10000079-1756314000-1756319400@gslessing-pirna.de
SUMMARY:Elternabend Klassenstufe 1
DESCRIPTION:Wer?\nKlassen 1 a|b|c \nTreffpunkt:\nAula \nWann?\n17 Uhr
URL:https://gslessing-pirna.de/event/elternabend-klassenstufe-1/
END:VEVENT
END:VCALENDAR