BEGIN:VCALENDAR
VERSION:2.0
PRODID:-//Lessing-Grundschule in Pirna - ECPv6.15.20//NONSGML v1.0//EN
CALSCALE:GREGORIAN
METHOD:PUBLISH
X-WR-CALNAME:Lessing-Grundschule in Pirna
X-ORIGINAL-URL:https://gslessing-pirna.de
X-WR-CALDESC:Veranstaltungen für Lessing-Grundschule in Pirna
REFRESH-INTERVAL;VALUE=DURATION:PT1H
X-Robots-Tag:noindex
X-PUBLISHED-TTL:PT1H
BEGIN:VTIMEZONE
TZID:Europe/Berlin
BEGIN:DAYLIGHT
TZOFFSETFROM:+0100
TZOFFSETTO:+0200
TZNAME:CEST
DTSTART:20230326T010000
END:DAYLIGHT
BEGIN:STANDARD
TZOFFSETFROM:+0200
TZOFFSETTO:+0100
TZNAME:CET
DTSTART:20231029T010000
END:STANDARD
BEGIN:DAYLIGHT
TZOFFSETFROM:+0100
TZOFFSETTO:+0200
TZNAME:CEST
DTSTART:20240331T010000
END:DAYLIGHT
BEGIN:STANDARD
TZOFFSETFROM:+0200
TZOFFSETTO:+0100
TZNAME:CET
DTSTART:20241027T010000
END:STANDARD
BEGIN:DAYLIGHT
TZOFFSETFROM:+0100
TZOFFSETTO:+0200
TZNAME:CEST
DTSTART:20250330T010000
END:DAYLIGHT
BEGIN:STANDARD
TZOFFSETFROM:+0200
TZOFFSETTO:+0100
TZNAME:CET
DTSTART:20251026T010000
END:STANDARD
END:VTIMEZONE
BEGIN:VEVENT
DTSTART;VALUE=DATE:20240501
DTEND;VALUE=DATE:20240502
DTSTAMP:20260423T005032
CREATED:20230706T062419Z
LAST-MODIFIED:20230706T062419Z
UID:10000027-1714521600-1714607999@gslessing-pirna.de
SUMMARY:Feiertag - Tag der Arbeit
DESCRIPTION:
URL:https://gslessing-pirna.de/event/feiertag-tag-der-arbeit/
END:VEVENT
BEGIN:VEVENT
DTSTART;VALUE=DATE:20240508
DTEND;VALUE=DATE:20240509
DTSTAMP:20260423T005032
CREATED:20230706T062509Z
LAST-MODIFIED:20240130T113429Z
UID:10000031-1715126400-1715212799@gslessing-pirna.de
SUMMARY:Versand der Aufnahmebescheide Klassenstufe 1 | Schuljahr 2024/2025
DESCRIPTION:
URL:https://gslessing-pirna.de/event/aufnahmebescheide-klassenstufe-1-im-schuljahr-2024-2025/
END:VEVENT
BEGIN:VEVENT
DTSTART;VALUE=DATE:20240509
DTEND;VALUE=DATE:20240510
DTSTAMP:20260423T005032
CREATED:20230706T062444Z
LAST-MODIFIED:20230706T062444Z
UID:10000029-1715212800-1715299199@gslessing-pirna.de
SUMMARY:Feiertag - Christi Himmelfahrt
DESCRIPTION:
URL:https://gslessing-pirna.de/event/feiertag-christi-himmelfahrt/
END:VEVENT
BEGIN:VEVENT
DTSTART;VALUE=DATE:20240510
DTEND;VALUE=DATE:20240511
DTSTAMP:20260423T005032
CREATED:20230706T062455Z
LAST-MODIFIED:20230706T062455Z
UID:10000030-1715299200-1715385599@gslessing-pirna.de
SUMMARY:Schulfrei
DESCRIPTION:
URL:https://gslessing-pirna.de/event/schulfrei-2/
END:VEVENT
BEGIN:VEVENT
DTSTART;VALUE=DATE:20240520
DTEND;VALUE=DATE:20240521
DTSTAMP:20260423T005032
CREATED:20230706T062531Z
LAST-MODIFIED:20230706T062531Z
UID:10000032-1716163200-1716249599@gslessing-pirna.de
SUMMARY:Feiertag - Pfingstmontag
DESCRIPTION:
URL:https://gslessing-pirna.de/event/feiertag-pfingstmontag/
END:VEVENT
BEGIN:VEVENT
DTSTART;VALUE=DATE:20240521
DTEND;VALUE=DATE:20240522
DTSTAMP:20260423T005032
CREATED:20230706T062541Z
LAST-MODIFIED:20230706T063013Z
UID:10000033-1716249600-1716335999@gslessing-pirna.de
SUMMARY:Schulfrei
DESCRIPTION:
URL:https://gslessing-pirna.de/event/schulfrei-3/
END:VEVENT
BEGIN:VEVENT
DTSTART;TZID=Europe/Berlin:20240529T180000
DTEND;TZID=Europe/Berlin:20240529T193000
DTSTAMP:20260423T005032
CREATED:20240315T103754Z
LAST-MODIFIED:20240508T051817Z
UID:10000058-1717005600-1717011000@gslessing-pirna.de
SUMMARY:0. Elternabend neue Klasse 1 im Schuljahr 2024/2025
DESCRIPTION:2024-25_INFO Box
URL:https://gslessing-pirna.de/event/0-elternabend-neue-klasse-1-im-schuljahr-2024-2025/
ATTACH;FMTTYPE=image/jpeg:https://gslessing-pirna.de/wp-content/uploads/2024/03/2024-25_INFO-Box.jpg
END:VEVENT
END:VCALENDAR